BEGIN:VCALENDAR
VERSION:2.0
PRODID:-//wp-events-plugin.com//7.2.2.1//EN
TZID:Europe/Zurich
X-WR-TIMEZONE:Europe/Zurich
BEGIN:VEVENT
UID:50@ski-club-villeneuve.ch
DTSTART;TZID=Europe/Zurich;VALUE=DATE:20250405
DTEND;TZID=Europe/Zurich;VALUE=DATE:20250406
DTSTAMP:20250106T120841Z
URL:https://ski-club-villeneuve.ch/events/sortie-randonnee-4/
SUMMARY:Sortie randonnée
DESCRIPTION:
END:VEVENT
BEGIN:VTIMEZONE
TZID:Europe/Zurich
X-LIC-LOCATION:Europe/Zurich
BEGIN:DAYLIGHT
DTSTART:20250330T030000
TZOFFSETFROM:+0100
TZOFFSETTO:+0200
TZNAME:CEST
END:DAYLIGHT
END:VTIMEZONE
END:VCALENDAR