BEGIN:VCALENDAR
VERSION:2.0
PRODID:-//wp-events-plugin.com//7.2.2.1//EN
TZID:Europe/Zurich
X-WR-TIMEZONE:Europe/Zurich
BEGIN:VEVENT
UID:7@ski-club-villeneuve.ch
DTSTART;TZID=Europe/Zurich;VALUE=DATE:20220402
DTEND;TZID=Europe/Zurich;VALUE=DATE:20220403
DTSTAMP:20211112T153628Z
URL:https://ski-club-villeneuve.ch/events/sortie-rando-5/
SUMMARY:Sortie Rando
DESCRIPTION:Inscription : jusqu’au jeudi 20h00\, président 079 712 57 46
END:VEVENT
BEGIN:VTIMEZONE
TZID:Europe/Zurich
X-LIC-LOCATION:Europe/Zurich
BEGIN:DAYLIGHT
DTSTART:20220327T030000
TZOFFSETFROM:+0100
TZOFFSETTO:+0200
TZNAME:CEST
END:DAYLIGHT
END:VTIMEZONE
END:VCALENDAR