BEGIN:VCALENDAR
VERSION:2.0
PRODID:-//wp-events-plugin.com//7.2.2.1//EN
TZID:Europe/Zurich
X-WR-TIMEZONE:Europe/Zurich
BEGIN:VEVENT
UID:14@ski-club-villeneuve.ch
DTSTART;TZID=Europe/Zurich;VALUE=DATE:20221104
DTEND;TZID=Europe/Zurich;VALUE=DATE:20221105
DTSTAMP:20220927T185824Z
URL:https://ski-club-villeneuve.ch/events/first-friday/
SUMMARY:First Friday
DESCRIPTION:
END:VEVENT
BEGIN:VTIMEZONE
TZID:Europe/Zurich
X-LIC-LOCATION:Europe/Zurich
BEGIN:STANDARD
DTSTART:20221030T020000
TZOFFSETFROM:+0200
TZOFFSETTO:+0100
TZNAME:CET
END:STANDARD
END:VTIMEZONE
END:VCALENDAR